BEGIN:VCALENDAR
VERSION:2.0
PRODID:-//South Meadowfield Neighborhood Association - ECPv6.15.20//NONSGML v1.0//EN
CALSCALE:GREGORIAN
METHOD:PUBLISH
X-ORIGINAL-URL:https://smnacolumbia.com
X-WR-CALDESC:Events for South Meadowfield Neighborhood Association
REFRESH-INTERVAL;VALUE=DURATION:PT1H
X-Robots-Tag:noindex
X-PUBLISHED-TTL:PT1H
BEGIN:VTIMEZONE
TZID:America/New_York
BEGIN:DAYLIGHT
TZOFFSETFROM:-0500
TZOFFSETTO:-0400
TZNAME:EDT
DTSTART:20250309T070000
END:DAYLIGHT
BEGIN:STANDARD
TZOFFSETFROM:-0400
TZOFFSETTO:-0500
TZNAME:EST
DTSTART:20251102T060000
END:STANDARD
BEGIN:DAYLIGHT
TZOFFSETFROM:-0500
TZOFFSETTO:-0400
TZNAME:EDT
DTSTART:20260308T070000
END:DAYLIGHT
BEGIN:STANDARD
TZOFFSETFROM:-0400
TZOFFSETTO:-0500
TZNAME:EST
DTSTART:20261101T060000
END:STANDARD
BEGIN:DAYLIGHT
TZOFFSETFROM:-0500
TZOFFSETTO:-0400
TZNAME:EDT
DTSTART:20270314T070000
END:DAYLIGHT
BEGIN:STANDARD
TZOFFSETFROM:-0400
TZOFFSETTO:-0500
TZNAME:EST
DTSTART:20271107T060000
END:STANDARD
END:VTIMEZONE
BEGIN:VEVENT
DTSTART;TZID=America/New_York:20260417T170000
DTEND;TZID=America/New_York:20260417T200000
DTSTAMP:20260423T074431
CREATED:20260416T130942Z
LAST-MODIFIED:20260416T130942Z
UID:284-1776445200-1776456000@smnacolumbia.com
SUMMARY:Spring Stampede 2026
DESCRIPTION:Join us for the annual Spring Stampede\, a fun-filled evening for the whole family! Enjoy a variety of food trucks\, inflatables\, raffle opportunities\, and more as the community comes together at Meadowfield Elementary School. \nWristbands are available for purchase online for $15 each or $25 for two. Day-of event pricing will be $20 for one and $30 for two. \nYou can purchase wristbands in advance here \nAll in-stock merchandise ordered online will be sent home through your child’s homeroom teacher within 5–7 business days. Most items may be returned if unused and in new condition.
URL:https://smnacolumbia.com/event/spring-stampede-2026/
LOCATION:Meadowfield Elementary School\, 525 Galway Lane\, Columbia\, SC\, 29209\, United States
CATEGORIES:Events
ATTACH;FMTTYPE=image/webp:https://smnacolumbia.com/wp-content/uploads/2026/04/Spring-Stampede-2026.jpeg.webp
END:VEVENT
END:VCALENDAR